BEGIN:VCALENDAR
VERSION:2.0
PRODID:-//Deutsch-Rumänische Gesellschaft Berlin e.V. - ECPv6.15.18//NONSGML v1.0//EN
CALSCALE:GREGORIAN
METHOD:PUBLISH
X-WR-CALNAME:Deutsch-Rumänische Gesellschaft Berlin e.V.
X-ORIGINAL-URL:https://www.deruge.org
X-WR-CALDESC:Veranstaltungen für Deutsch-Rumänische Gesellschaft Berlin e.V.
REFRESH-INTERVAL;VALUE=DURATION:PT1H
X-Robots-Tag:noindex
X-PUBLISHED-TTL:PT1H
BEGIN:VTIMEZONE
TZID:Europe/Berlin
BEGIN:DAYLIGHT
TZOFFSETFROM:+0100
TZOFFSETTO:+0200
TZNAME:CEST
DTSTART:20250330T010000
END:DAYLIGHT
BEGIN:STANDARD
TZOFFSETFROM:+0200
TZOFFSETTO:+0100
TZNAME:CET
DTSTART:20251026T010000
END:STANDARD
BEGIN:DAYLIGHT
TZOFFSETFROM:+0100
TZOFFSETTO:+0200
TZNAME:CEST
DTSTART:20260329T010000
END:DAYLIGHT
BEGIN:STANDARD
TZOFFSETFROM:+0200
TZOFFSETTO:+0100
TZNAME:CET
DTSTART:20261025T010000
END:STANDARD
BEGIN:DAYLIGHT
TZOFFSETFROM:+0100
TZOFFSETTO:+0200
TZNAME:CEST
DTSTART:20270328T010000
END:DAYLIGHT
BEGIN:STANDARD
TZOFFSETFROM:+0200
TZOFFSETTO:+0100
TZNAME:CET
DTSTART:20271031T010000
END:STANDARD
END:VTIMEZONE
BEGIN:VEVENT
DTSTART;TZID=Europe/Berlin:20260214T180000
DTEND;TZID=Europe/Berlin:20260224T233000
DTSTAMP:20260421T010440
CREATED:20260202T190805Z
LAST-MODIFIED:20260202T190805Z
UID:5686-1771092000-1771975800@www.deruge.org
SUMMARY:Theater-Labor "The Pink Elephant"
DESCRIPTION:Die zweite diesjährige Residentin unseres Kooperationspartners Fantom e.V.\, die Modedesignerin\, Dramaturgin und multidisziplinäre Künstlerin BIANCA POPP aus Bukarest hat sich etwas ganz Besonderes ausgedacht: Sie veranstaltet ein zehntägiges Theaterlabor vom 14. bis 24. Februar\, das neurodiverse Erfahrungen in souveräne Mythologie verwandelt. \nUnter dem Titel THE PINK ELEPHANT wird die Künstlerin während der Berlinale im Rahmen eines offenen Castings einen „Hof der Minister“ einberufen\, von denen jede/jeder neurodiverse Merkmale verkörpert\, die nicht als klinisch pathologisch\, sondern als heilige Funktionen neu interpretiert werden. Im Zentrum steht der rosa Elefant\, die Figur aus den Kindheitsalbträumen der Künstlerin. \nDas Labor gipfelt in einer öffentlichen Lesung\, in der die versammelten „Minister“ gemeinsam entwickelte Szenen aufführen. Die Durchführung während der Berlinale positioniert dieses Theaterlabor an der Schnittstelle von Live-Performance und Filmentwicklung. Castings fungieren als authentische Screentests\, Kostümentwürfeals Produktionsdesign\, Szenen als Drehbuchentwicklung.  \nDie Eröffnung findet am 14. Februar um 18.00 Uhr in der Galerie Fantom statt. \nKonzept The Pink Elephant
URL:https://www.deruge.org/event/theater-labor-the-pink-elephant/
LOCATION:Galerie Fantom\, Hektorstr. 9-10\, Berlin\, 10711\, Deutschland
CATEGORIES:Film,Theater,Veranstaltung eines Kooperationspartners
END:VEVENT
END:VCALENDAR