BEGIN:VCALENDAR
VERSION:2.0
PRODID:-//Deutsch-Rumänische Gesellschaft Berlin e.V. - ECPv6.15.18//NONSGML v1.0//EN
CALSCALE:GREGORIAN
METHOD:PUBLISH
X-WR-CALNAME:Deutsch-Rumänische Gesellschaft Berlin e.V.
X-ORIGINAL-URL:https://www.deruge.org
X-WR-CALDESC:Veranstaltungen für Deutsch-Rumänische Gesellschaft Berlin e.V.
REFRESH-INTERVAL;VALUE=DURATION:PT1H
X-Robots-Tag:noindex
X-PUBLISHED-TTL:PT1H
BEGIN:VTIMEZONE
TZID:Europe/Berlin
BEGIN:DAYLIGHT
TZOFFSETFROM:+0100
TZOFFSETTO:+0200
TZNAME:CEST
DTSTART:20250330T010000
END:DAYLIGHT
BEGIN:STANDARD
TZOFFSETFROM:+0200
TZOFFSETTO:+0100
TZNAME:CET
DTSTART:20251026T010000
END:STANDARD
BEGIN:DAYLIGHT
TZOFFSETFROM:+0100
TZOFFSETTO:+0200
TZNAME:CEST
DTSTART:20260329T010000
END:DAYLIGHT
BEGIN:STANDARD
TZOFFSETFROM:+0200
TZOFFSETTO:+0100
TZNAME:CET
DTSTART:20261025T010000
END:STANDARD
BEGIN:DAYLIGHT
TZOFFSETFROM:+0100
TZOFFSETTO:+0200
TZNAME:CEST
DTSTART:20270328T010000
END:DAYLIGHT
BEGIN:STANDARD
TZOFFSETFROM:+0200
TZOFFSETTO:+0100
TZNAME:CET
DTSTART:20271031T010000
END:STANDARD
END:VTIMEZONE
BEGIN:VEVENT
DTSTART;TZID=Europe/Berlin:20260514T190000
DTEND;TZID=Europe/Berlin:20260514T220000
DTSTAMP:20260421T005901
CREATED:20260222T144657Z
LAST-MODIFIED:20260326T133129Z
UID:5747-1778785200-1778796000@www.deruge.org
SUMMARY:Siebenbürgen-Stammtisch
DESCRIPTION:Der Siebenbürgen-Stammtisch freut sich über alle\, welche sich mit Siebenbürgen\, Rumänien und allem darum herum beschäftigen\, und die sich in wirklich uriger Atmosphäre wohlfühlen und austauschen wollen. Herzlich Willkommen! \nAnsprechperson:\nKerstin Jeschke / Mail: kerstin-jeschke@deruge.org / Tel.: 015563 33 67 11
URL:https://www.deruge.org/event/siebenbuergen-stammtisch-2/
LOCATION:Restaurant „Unsre Kneipe“\, Belforter Str. 22\, Berlin\, 10405
CATEGORIES:Stammtisch,Veranstaltung eines Kooperationspartners
ATTACH;FMTTYPE=image/png:https://www.deruge.org/wp-content/uploads/symbolbild-siebenbuergenstammtisch.png
END:VEVENT
END:VCALENDAR