BEGIN:VCALENDAR
VERSION:2.0
PRODID:-//Deutsch-Rumänische Gesellschaft Berlin e.V. - ECPv6.15.18//NONSGML v1.0//EN
CALSCALE:GREGORIAN
METHOD:PUBLISH
X-WR-CALNAME:Deutsch-Rumänische Gesellschaft Berlin e.V.
X-ORIGINAL-URL:https://www.deruge.org
X-WR-CALDESC:Veranstaltungen für Deutsch-Rumänische Gesellschaft Berlin e.V.
REFRESH-INTERVAL;VALUE=DURATION:PT1H
X-Robots-Tag:noindex
X-PUBLISHED-TTL:PT1H
BEGIN:VTIMEZONE
TZID:Europe/Berlin
BEGIN:DAYLIGHT
TZOFFSETFROM:+0100
TZOFFSETTO:+0200
TZNAME:CEST
DTSTART:20250330T010000
END:DAYLIGHT
BEGIN:STANDARD
TZOFFSETFROM:+0200
TZOFFSETTO:+0100
TZNAME:CET
DTSTART:20251026T010000
END:STANDARD
BEGIN:DAYLIGHT
TZOFFSETFROM:+0100
TZOFFSETTO:+0200
TZNAME:CEST
DTSTART:20260329T010000
END:DAYLIGHT
BEGIN:STANDARD
TZOFFSETFROM:+0200
TZOFFSETTO:+0100
TZNAME:CET
DTSTART:20261025T010000
END:STANDARD
BEGIN:DAYLIGHT
TZOFFSETFROM:+0100
TZOFFSETTO:+0200
TZNAME:CEST
DTSTART:20270328T010000
END:DAYLIGHT
BEGIN:STANDARD
TZOFFSETFROM:+0200
TZOFFSETTO:+0100
TZNAME:CET
DTSTART:20271031T010000
END:STANDARD
END:VTIMEZONE
BEGIN:VEVENT
DTSTART;VALUE=DATE:20261004
DTEND;VALUE=DATE:20261015
DTSTAMP:20260425T155134
CREATED:20251103T163136Z
LAST-MODIFIED:20260222T145346Z
UID:5491-1791072000-1792022399@www.deruge.org
SUMMARY:Bildungsreise Moldova
DESCRIPTION:Das kleine Land zwischen Rumänien und der Ukraine hat 2020 und 2021 eine neue Führung mit einem klaren Kurs nach Europa gewählt und diesen Kurs in den Wahlen 2024 und 2025 bestätigt. Der Transnistrien-Konflikt und das schwierige Verhältnis zu Russland erschweren allerdings die Bemühungen. Wir fahren hier mit dem Zug immer weiter in den Osten mit der Frage\, wie sich die verschiedenen Regionen nach dem Umbruch 1989/91 entwickelt haben. Die Halte sind Bukarest\, Chisinau\, Tiraspol und Rîșcova. \nProgramm nach Tagen: \n\n\nTag 1: Treffen am späten Nachmittag am Wiener Hauptbahnhof\, Abfahrt mit dem Nachtzug\nTag 2: Ankunft in Bukarest am Nachmittag\, Stadtspaziergang in Bukarest mit dem Fokus auf die Schauplätze vom Dezember 1989\nTag 3: Gespräche über die politische Lage in Rumänien und die rumänische Sicht auf Moldova\, Nachtzugfahrt nach Chisinau\nTag 4: morgens Ankunft in Chișinău\, Stadtspaziergang und Gespräch über die Identität Moldovas und Entwicklungen seit 1991\, Besichtigung des Historischen Museums\nTag 5: Gespräche zur aktuellen politischen Lage mit PolitikerInnen und AnalystInnen\, Einschätzungen von russischen DissidentInnen und ukrainischen Flüchtlingen\nTag 6: Ausflug zum Projekt Eco-village in Rîșcova: Besuche bei DorfbewohnerInnen\, Übernachtung im Dorf Rîşcova \nTag 7: ein Tag in Rîşcova: Dorfleben\, Besichtigung des Höhlenklosters Orheiul Vechi\, Gespräche über ländliche Entwicklung in Moldova\nTag 8: Rückfahrt nach Chisinau\, kulturelles Chisinau am Nationalfeiertag („Tag der Sprache“)\, Gespräche RegierungsvertreterInnen\nTag 9: Ausflug nach Transnistrien (je nach diplomatischer Lage)\, Gespräche zur Sicht der TransnistrierInnen\, Treffen mit MenschenrechtsaktivistInnen\nTag 10: Rückreise: Bahnfahrt zurück Bukarest // Flug ab Chișinău // eigens organisierte Rückreise\n\n\nPreis pro Person:\n1.800\,- € pro Person im Doppelzimmer\n350\,- € Zuschlag für Unterbringung im Einzelzimmer (Anzahl begrenzt)\n300\,- € Rabatt für Geringverdienende möglich\n1000\,- € „Rucksack-Tarif“ für Teilnehmende unter 30 Jahren\nSolidaritätsbeitrag möglich\nRabatt für DRG-Mitglieder auf Anfrage. \nAnmeldeschluss: 30.06.2026 \nLeitung: Julian Gröger / e-Mail: groeger@boell-sh.de \nFlyer (Link) \nAnmeldung (Link)
URL:https://www.deruge.org/event/moldova/
CATEGORIES:Event in Moldova,Highlight,Studienreise
ATTACH;FMTTYPE=image/jpeg:https://www.deruge.org/wp-content/uploads/IMG_20241014_171346-scaled.jpg
END:VEVENT
BEGIN:VEVENT
DTSTART;TZID=Europe/Berlin:20261014T180000
DTEND;TZID=Europe/Berlin:20261014T220000
DTSTAMP:20260425T155134
CREATED:20260222T143240Z
LAST-MODIFIED:20260222T143255Z
UID:5735-1792000800-1792015200@www.deruge.org
SUMMARY:Herbst-Stammtisch
DESCRIPTION:Herzliche Einladung zum gemütlichen Beisammensein im schönen Restaurant „arema“ in der Mitte Berlins! \nEin Treffen für alle FreundInnen und Mitglieder der DRG\, für Neugierige und „alte Hasen“\, für Rumänien- / Moldova-Interessierte\, für hier und da Geborene! \nWir treffen uns zum lockeren Austausch – ohne Tagesordnung und ReferentIn – zum Diskutieren der aktuellen Entwicklungen in Rumänien / Moldova\, zum Knüpfen neuer Kontakte\, aber auch zum Erzählen\, zum Zuhören und zum entspannten Beisammensein. Und natürlich für alle Fragen rund um die Deutsch-Rumänische Gesellschaft! \nInfos\, Broschüren\, Bücher\, … dürfen gern mitgebracht werden! \nOrganisatorisches:\nWir haben einen Tisch reserviert. Kosten für Essen und Getränke sind selbst zu tragen. \nAnsprechperson:\nKerstin Jeschke / Mail: kerstin-jeschke@deruge.org / Tel.: 015563 33 67 11 \nAnmeldung:\nBitte bis 13.10.2025 unter: anmeldung@deruge.org
URL:https://www.deruge.org/event/herbst-stammtisch/
LOCATION:Restaurant „arema“\, Birkenstraße 30\, Berlin\, 10551
CATEGORIES:Stammtisch
ATTACH;FMTTYPE=image/webp:https://www.deruge.org/wp-content/uploads/DALL·E-2025-01-31-17.34.30-A-diverse-Stammtisch-gathering-in-Berlin-with-both-younger-and-older-people-organized-by-the-Romanian-German-Society.-The-setting-is-a-cozy-pub-wit.webp
END:VEVENT
END:VCALENDAR