BEGIN:VCALENDAR
VERSION:2.0
PRODID:-//Deutsch-Rumänische Gesellschaft Berlin e.V. - ECPv6.15.18//NONSGML v1.0//EN
CALSCALE:GREGORIAN
METHOD:PUBLISH
X-ORIGINAL-URL:https://www.deruge.org
X-WR-CALDESC:Veranstaltungen für Deutsch-Rumänische Gesellschaft Berlin e.V.
REFRESH-INTERVAL;VALUE=DURATION:PT1H
X-Robots-Tag:noindex
X-PUBLISHED-TTL:PT1H
BEGIN:VTIMEZONE
TZID:Europe/Berlin
BEGIN:DAYLIGHT
TZOFFSETFROM:+0100
TZOFFSETTO:+0200
TZNAME:CEST
DTSTART:20240331T010000
END:DAYLIGHT
BEGIN:STANDARD
TZOFFSETFROM:+0200
TZOFFSETTO:+0100
TZNAME:CET
DTSTART:20241027T010000
END:STANDARD
BEGIN:DAYLIGHT
TZOFFSETFROM:+0100
TZOFFSETTO:+0200
TZNAME:CEST
DTSTART:20250330T010000
END:DAYLIGHT
BEGIN:STANDARD
TZOFFSETFROM:+0200
TZOFFSETTO:+0100
TZNAME:CET
DTSTART:20251026T010000
END:STANDARD
BEGIN:DAYLIGHT
TZOFFSETFROM:+0100
TZOFFSETTO:+0200
TZNAME:CEST
DTSTART:20260329T010000
END:DAYLIGHT
BEGIN:STANDARD
TZOFFSETFROM:+0200
TZOFFSETTO:+0100
TZNAME:CET
DTSTART:20261025T010000
END:STANDARD
END:VTIMEZONE
BEGIN:VEVENT
DTSTART;VALUE=DATE:20250321
DTEND;VALUE=DATE:20250324
DTSTAMP:20260425T160107
CREATED:20250107T180143Z
LAST-MODIFIED:20250107T180425Z
UID:4501-1742515200-1742774399@www.deruge.org
SUMMARY:Endstation Dobrudscha? Migrationsgeschichten der Dobrudschadeutschen
DESCRIPTION:Die Veranstaltung möchte den Blick auf die Dobrudscha-Region zwischen Donau und Schwarzem Meer lenken\, wo es einen geschichtsträchtigen und ethnisch vielfältigen Raum gibt\, in dem fast 100 Jahre lang – von 1842 bis 1940 zur Umsiedlung – Deutsche gelebt haben. Thema des Seminars soll die die Migration aus der alten Heimat Anfang des 19. Jahrhunderts sein\, u.a. aus dem Elsass und aus Lothringen sowie dem Südwesten Deutschlands. Nachfahren dieser deutschen Minderheit begeben sich auf Spurensuche\, um die (Familien-) Geschichte – besonders mit Blick auf die Motive und die Wege der Auswanderungen nach 1815 – besser kennen- und verstehen zu lernen.\nWir laden herzlich zu diesem Seminar in die barocke Residenz- und Garnisonsstadt Rastatt ein!\nHeinz Oertel\, Hartmut Knopp (Bessarabiendeutscher Verein e.V.) und Titus Möllenbeck (Akademie im Bistum Mainz\, HP) \nAnmeldung per Mail bis zum 31.01.2025 an:\nKatholische Akademie im Bistum Mainz mit Dienstsitz in 64646 Heppenheim\nLaudenbacher Tor 2 (Marienhaus)\nwww.ebh-mainz.de/Veranstaltungen\nFon: 06252 5989993\nMail: daniela.ahl@bistum-mainz.de (Sekretariat von 9 bis 13 Uhr) \nVorbereitung und Moderation:\nDr. Heinke Fabritius\, Kulturreferentin für Siebenbürgischen\, den Karpatenraum\, Bessarabien und Dobrudscha am Siebenbürgischen Museum\, Gundelsheim am Neckar\nDr. Hartmut Knopp\, Geschäftsführer\, und Heinz Oertel\, stellvertretender Bundesvorsitzender im Bessarabiendeutschen Verein e.V.\, Stuttgart\nDr. Josef Sallanz\, Historiker u. Autor eines Buches über die Dobrudscha\nPD Dr. Tobias Weger\, Historiker und Volkskundler\, wiss. Mitarbeiter des Instituts für deutsche Kultur und Geschichte Südosteuropas e.V. (IKGS) an der Ludwig-Maximilians-Universität München; Projekt zu den Deutschen in der Dobrudscha\nTitus Möllenbeck\, Bildungsreferent der Akademie Erbacher Hof\, Dienststelle Heppenheim \nTeilnahmegebühr: 180\,-€ für Unterbringung im DZ\, Verpflegung und Programm; Aufpreis EZ 70\,-€ \nSonstiges:\nNach der Anmeldung kommt ein Bestätigungsschreiben mit weiteren Informationen\, u.a. zur Begleichung der Teilnehmergebühr.\nFür Rückfragen steht der Veranstalter zur Verfügung.\nEine Anreise ist bereits auch am Donnerstag\, 20. März\, gegen Zuzahlung von 110\,-€ p.P. für Abendessen\, Übernachtung und Frühstück im Tagungshaus möglich; für Freitagmorgen ist eine Exkursion nach Weißenburg im Elsass geplant.\nDie Arbeitsgemeinschaft katholisch-sozialer Bildungswerke e.V. (AKSB) ist anerkannter Träger der Bundeszentrale für politische Bildung (bpb).\nDie Akademie Erbacher Hof ist Mitglied der AKSB. \nProgramm (pdf)
URL:https://www.deruge.org/event/endstation-dobrudscha-migrationsgeschichten-der-dobrudschadeutschen/
LOCATION:Bildungshaus St. Bernhard\, Rastatt\, 76437
CATEGORIES:Exkursion,Highlight,Veranstaltung eines Kooperationspartners
END:VEVENT
END:VCALENDAR