BEGIN:VCALENDAR
VERSION:2.0
PRODID:-//Deutsch-Rumänische Gesellschaft Berlin e.V. - ECPv6.15.18//NONSGML v1.0//EN
CALSCALE:GREGORIAN
METHOD:PUBLISH
X-WR-CALNAME:Deutsch-Rumänische Gesellschaft Berlin e.V.
X-ORIGINAL-URL:https://www.deruge.org
X-WR-CALDESC:Veranstaltungen für Deutsch-Rumänische Gesellschaft Berlin e.V.
REFRESH-INTERVAL;VALUE=DURATION:PT1H
X-Robots-Tag:noindex
X-PUBLISHED-TTL:PT1H
BEGIN:VTIMEZONE
TZID:Europe/Berlin
BEGIN:DAYLIGHT
TZOFFSETFROM:+0100
TZOFFSETTO:+0200
TZNAME:CEST
DTSTART:20230326T010000
END:DAYLIGHT
BEGIN:STANDARD
TZOFFSETFROM:+0200
TZOFFSETTO:+0100
TZNAME:CET
DTSTART:20231029T010000
END:STANDARD
BEGIN:DAYLIGHT
TZOFFSETFROM:+0100
TZOFFSETTO:+0200
TZNAME:CEST
DTSTART:20240331T010000
END:DAYLIGHT
BEGIN:STANDARD
TZOFFSETFROM:+0200
TZOFFSETTO:+0100
TZNAME:CET
DTSTART:20241027T010000
END:STANDARD
BEGIN:DAYLIGHT
TZOFFSETFROM:+0100
TZOFFSETTO:+0200
TZNAME:CEST
DTSTART:20250330T010000
END:DAYLIGHT
BEGIN:STANDARD
TZOFFSETFROM:+0200
TZOFFSETTO:+0100
TZNAME:CET
DTSTART:20251026T010000
END:STANDARD
END:VTIMEZONE
BEGIN:VEVENT
DTSTART;TZID=Europe/Berlin:20241129T120000
DTEND;TZID=Europe/Berlin:20241208T200000
DTSTAMP:20260425T225221
CREATED:20241106T081220Z
LAST-MODIFIED:20241123T112820Z
UID:3249-1732881600-1733688000@www.deruge.org
SUMMARY:"Gattenmörderinnen"
DESCRIPTION:Mit Blick auf den Internationalen Tag zur Beseitigung von Gewalt gegen Frauen zeigen Hahn+Hartung ihre aktuelle Arbeit „Gattenmörderinnen: Geschichten vom Überleben“. Die Ausstellung beleuchtet die bewegenden Schicksale von sechs Frauen aus Rumänien und Moldawien\, die in einem Akt der Verzweiflung ihre Ehemänner töteten\, nachdem sie jahrelang unter häuslicher Gewalt gelitten hatten. Ihre Geschichten offenbaren den verzweifelten Kampf ums Überleben und den Weg in ein neues Leben. \nVernissage: am Donnerstag\, den 28.11. um 19 Uhr \nPodiumsdiskussion: am Samstag\, den 30.11. \nFührung in deutscher Sprache: am Dienstag\, den 02.12. um 18 Uhr – Eintritt kostenlos – Spenden erbeten\nAnmeldung bitte bis einschl. 30.11. (Sonntag) an janka-vogel@deruge.org! \nEinladung Gattenmoerderinnen Ausstellung
URL:https://www.deruge.org/event/ausstellung-gattenmoerderinnen/
LOCATION:Projektraum\, Am Flutgraben 3\, Berlin\, 12435
CATEGORIES:Ausstellung,Highlight
ATTACH;FMTTYPE=image/png:https://www.deruge.org/wp-content/uploads/gattenmoerderinnen.png
ORGANIZER;CN="Hahn - Hartung - Fotografen":MAILTO:lisa@hahn-hartung.com
END:VEVENT
END:VCALENDAR