BEGIN:VCALENDAR
VERSION:2.0
PRODID:-//Deutsch-Rumänische Gesellschaft Berlin e.V. - ECPv6.15.18//NONSGML v1.0//EN
CALSCALE:GREGORIAN
METHOD:PUBLISH
X-WR-CALNAME:Deutsch-Rumänische Gesellschaft Berlin e.V.
X-ORIGINAL-URL:https://www.deruge.org
X-WR-CALDESC:Veranstaltungen für Deutsch-Rumänische Gesellschaft Berlin e.V.
REFRESH-INTERVAL;VALUE=DURATION:PT1H
X-Robots-Tag:noindex
X-PUBLISHED-TTL:PT1H
BEGIN:VTIMEZONE
TZID:Europe/Berlin
BEGIN:DAYLIGHT
TZOFFSETFROM:+0100
TZOFFSETTO:+0200
TZNAME:CEST
DTSTART:20240331T010000
END:DAYLIGHT
BEGIN:STANDARD
TZOFFSETFROM:+0200
TZOFFSETTO:+0100
TZNAME:CET
DTSTART:20241027T010000
END:STANDARD
BEGIN:DAYLIGHT
TZOFFSETFROM:+0100
TZOFFSETTO:+0200
TZNAME:CEST
DTSTART:20250330T010000
END:DAYLIGHT
BEGIN:STANDARD
TZOFFSETFROM:+0200
TZOFFSETTO:+0100
TZNAME:CET
DTSTART:20251026T010000
END:STANDARD
BEGIN:DAYLIGHT
TZOFFSETFROM:+0100
TZOFFSETTO:+0200
TZNAME:CEST
DTSTART:20260329T010000
END:DAYLIGHT
BEGIN:STANDARD
TZOFFSETFROM:+0200
TZOFFSETTO:+0100
TZNAME:CET
DTSTART:20261025T010000
END:STANDARD
END:VTIMEZONE
BEGIN:VEVENT
DTSTART;TZID=Europe/Berlin:20250304T193000
DTEND;TZID=Europe/Berlin:20250304T220000
DTSTAMP:20260420T141540
CREATED:20250124T081929Z
LAST-MODIFIED:20250124T081929Z
UID:4558-1741116600-1741125600@www.deruge.org
SUMMARY:Szenische Lesung
DESCRIPTION:Robert Stadlober spricht\, liest und inszeniert die Tagebücher Mihail Sebastians „Voller Entsetzen\, aber nicht verzweifelt. 1935-1944“ (mehr über die Tagebücher). \nEinführung: Thomas Ebermann.
URL:https://www.deruge.org/event/szenische-lesung/
LOCATION:bajszel – ProgrammSchänke\, Emser Str. 8/9\, Berlin\, 12051
CATEGORIES:Buchpräsentation,Highlight,Veranstaltung eines Kooperationspartners
ATTACH;FMTTYPE=image/webp:https://www.deruge.org/wp-content/uploads/TagebuecherMihailsSebastian.webp
ORGANIZER;CN="bajszel - ProgrammSch%C3%A4nke":MAILTO:bajszel@gmail.com
END:VEVENT
END:VCALENDAR