BEGIN:VCALENDAR
VERSION:2.0
PRODID:-//Deutsch-Rumänische Gesellschaft Berlin e.V. - ECPv6.15.18//NONSGML v1.0//EN
CALSCALE:GREGORIAN
METHOD:PUBLISH
X-WR-CALNAME:Deutsch-Rumänische Gesellschaft Berlin e.V.
X-ORIGINAL-URL:https://www.deruge.org
X-WR-CALDESC:Veranstaltungen für Deutsch-Rumänische Gesellschaft Berlin e.V.
REFRESH-INTERVAL;VALUE=DURATION:PT1H
X-Robots-Tag:noindex
X-PUBLISHED-TTL:PT1H
BEGIN:VTIMEZONE
TZID:Europe/Berlin
BEGIN:DAYLIGHT
TZOFFSETFROM:+0100
TZOFFSETTO:+0200
TZNAME:CEST
DTSTART:20230326T010000
END:DAYLIGHT
BEGIN:STANDARD
TZOFFSETFROM:+0200
TZOFFSETTO:+0100
TZNAME:CET
DTSTART:20231029T010000
END:STANDARD
BEGIN:DAYLIGHT
TZOFFSETFROM:+0100
TZOFFSETTO:+0200
TZNAME:CEST
DTSTART:20240331T010000
END:DAYLIGHT
BEGIN:STANDARD
TZOFFSETFROM:+0200
TZOFFSETTO:+0100
TZNAME:CET
DTSTART:20241027T010000
END:STANDARD
BEGIN:DAYLIGHT
TZOFFSETFROM:+0100
TZOFFSETTO:+0200
TZNAME:CEST
DTSTART:20250330T010000
END:DAYLIGHT
BEGIN:STANDARD
TZOFFSETFROM:+0200
TZOFFSETTO:+0100
TZNAME:CET
DTSTART:20251026T010000
END:STANDARD
END:VTIMEZONE
BEGIN:VEVENT
DTSTART;TZID=Europe/Berlin:20240226T180000
DTEND;TZID=Europe/Berlin:20240302T230000
DTSTAMP:20260425T134300
CREATED:20240715T093312Z
LAST-MODIFIED:20241218T165856Z
UID:2761-1708970400-1709420400@www.deruge.org
SUMMARY:Don't look back: Ein Literaturfestival aus Rumänien und der Moldau
DESCRIPTION:00000000\n                              \n                        \n                              \n                        \n                              \n                              00000000\n                              \n                        \n                              \n                        \n                              \n                              00000001\n                              \n                        \n                              \n                        \n                              \n                              00000001\n                              \n                        \n                              \n                        \n                              \n                              00000001\n                              \n                        \n                              \n                        \n                              \n                              00000001\n                              \n                        \n                              \n                        \n                              \n                              00000001\n                              \n                        \n                              \n                        \n                              \n                              00000001\n                              \n                        \n                              \n                        \n                              \n                              00000001\n                              \n                        \n                              \n                        \n                              \n                              00000001
URL:https://www.deruge.org/event/dont-look-back/
LOCATION:Literaturhaus Berlin\, Fasanenstr. 23\, Berlin\, 10719\, Deutschland
CATEGORIES:Highlight,Veranstaltung eines Kooperationspartners
ATTACH;FMTTYPE=image/jpeg:https://www.deruge.org/wp-content/uploads/Poster.jpg
END:VEVENT
END:VCALENDAR