BEGIN:VCALENDAR
VERSION:2.0
PRODID:-//Deutsch-Rumänische Gesellschaft Berlin e.V. - ECPv6.15.18//NONSGML v1.0//EN
CALSCALE:GREGORIAN
METHOD:PUBLISH
X-ORIGINAL-URL:https://www.deruge.org
X-WR-CALDESC:Veranstaltungen für Deutsch-Rumänische Gesellschaft Berlin e.V.
REFRESH-INTERVAL;VALUE=DURATION:PT1H
X-Robots-Tag:noindex
X-PUBLISHED-TTL:PT1H
BEGIN:VTIMEZONE
TZID:Europe/Berlin
BEGIN:DAYLIGHT
TZOFFSETFROM:+0100
TZOFFSETTO:+0200
TZNAME:CEST
DTSTART:20240331T010000
END:DAYLIGHT
BEGIN:STANDARD
TZOFFSETFROM:+0200
TZOFFSETTO:+0100
TZNAME:CET
DTSTART:20241027T010000
END:STANDARD
BEGIN:DAYLIGHT
TZOFFSETFROM:+0100
TZOFFSETTO:+0200
TZNAME:CEST
DTSTART:20250330T010000
END:DAYLIGHT
BEGIN:STANDARD
TZOFFSETFROM:+0200
TZOFFSETTO:+0100
TZNAME:CET
DTSTART:20251026T010000
END:STANDARD
BEGIN:DAYLIGHT
TZOFFSETFROM:+0100
TZOFFSETTO:+0200
TZNAME:CEST
DTSTART:20260329T010000
END:DAYLIGHT
BEGIN:STANDARD
TZOFFSETFROM:+0200
TZOFFSETTO:+0100
TZNAME:CET
DTSTART:20261025T010000
END:STANDARD
END:VTIMEZONE
BEGIN:VEVENT
DTSTART;VALUE=DATE:20250712
DTEND;VALUE=DATE:20250720
DTSTAMP:20260420T031252
CREATED:20250131T082847Z
LAST-MODIFIED:20250131T082953Z
UID:4610-1752278400-1752969599@www.deruge.org
SUMMARY:Studienreise "Marmarosch\, Moldauklöster und Siebenbürgen – Welterbe in den Karpaten"
DESCRIPTION:Die Studienreise „Marmarosch\, Moldauklöster und Siebenbürgen – Welterbe in den Karpaten“\, die von 12. bis 19. Juli 2025 stattfindet\, führt in den Norden Rumäniens. Verschiedene Epochen und Herrschaften haben diese Regionen geprägt\, Nationalismus\, Autoritarismus und Kommunismus ihre Spuren hinterlassen. Diese Studienreise widmet sich der historischen Spurensuche in einer an Kleinodien reichen Kultur- und Naturlandschaft und fragt gleichzeitig nach der Zukunft einer (scheinbaren) Randzone Mitteleuropas zwischen Modernisierung und Tradition. Hintergrundgespräche ermöglichen es\, sich vertiefend über die Situation zu informieren. \nWien – Sighet/Sighetu Marmației – Oberwischau/Vișeu de Sus – Moldovița – Gura Humorului – Moldovița – Sucevița – Humor – Voroneț – Nationalpark Calimani – Bistritz/Bistrița – Posmus/Paßbusch – Mönchsdorf/Herina – Klausenburg/Cluj-Napoca/Kolozsvár – Sâncraiu – Wien \nVeranstalter\nDr. Dr. h.c. Florian Kührer-Wielach\, Institut für deutsche Kultur und Geschichte Südosteuropas an der LMU München (IKGS)\, Historiker\nMMag. Traian Almașan\, Arte Travel\, Cluj-Napoca/Klausenburg\, Reiseveranstalter und staatlich geprüfter Reiseführer \nPreise\n1.390 Euro (DZ)\nEinzelzimmerzuschlag: 235 Euro \nAnmeldung\nbis 31.5.2025 an kuehrer@ikgs.de
URL:https://www.deruge.org/event/studienreise-marmarosch-moldaukloester-und-siebenbuergen-welterbe-in-den-karpaten/
CATEGORIES:Event in Rumänien,Exkursion,Veranstaltung eines Kooperationspartners
ATTACH;FMTTYPE=image/webp:https://www.deruge.org/wp-content/uploads/dallc2b7e-2025-01-26-21.01.02-a-panoramic-digital-painting-of-the-carpathian-mountains-1.webp
END:VEVENT
END:VCALENDAR