BEGIN:VCALENDAR
VERSION:2.0
PRODID:-//Deutsch-Rumänische Gesellschaft Berlin e.V. - ECPv6.15.18//NONSGML v1.0//EN
CALSCALE:GREGORIAN
METHOD:PUBLISH
X-ORIGINAL-URL:https://www.deruge.org
X-WR-CALDESC:Veranstaltungen für Deutsch-Rumänische Gesellschaft Berlin e.V.
REFRESH-INTERVAL;VALUE=DURATION:PT1H
X-Robots-Tag:noindex
X-PUBLISHED-TTL:PT1H
BEGIN:VTIMEZONE
TZID:Europe/Berlin
BEGIN:DAYLIGHT
TZOFFSETFROM:+0100
TZOFFSETTO:+0200
TZNAME:CEST
DTSTART:20240331T010000
END:DAYLIGHT
BEGIN:STANDARD
TZOFFSETFROM:+0200
TZOFFSETTO:+0100
TZNAME:CET
DTSTART:20241027T010000
END:STANDARD
BEGIN:DAYLIGHT
TZOFFSETFROM:+0100
TZOFFSETTO:+0200
TZNAME:CEST
DTSTART:20250330T010000
END:DAYLIGHT
BEGIN:STANDARD
TZOFFSETFROM:+0200
TZOFFSETTO:+0100
TZNAME:CET
DTSTART:20251026T010000
END:STANDARD
BEGIN:DAYLIGHT
TZOFFSETFROM:+0100
TZOFFSETTO:+0200
TZNAME:CEST
DTSTART:20260329T010000
END:DAYLIGHT
BEGIN:STANDARD
TZOFFSETFROM:+0200
TZOFFSETTO:+0100
TZNAME:CET
DTSTART:20261025T010000
END:STANDARD
END:VTIMEZONE
BEGIN:VEVENT
DTSTART;TZID=Europe/Berlin:20250123T180000
DTEND;TZID=Europe/Berlin:20250123T200000
DTSTAMP:20260420T135514
CREATED:20250117T090845Z
LAST-MODIFIED:20250117T091155Z
UID:4526-1737655200-1737662400@www.deruge.org
SUMMARY:Filmabend am Institut für Romanistik (HU Berlin)
DESCRIPTION:Arsenie\, viața de apoi (Arsenie\, an amazing afterlife) \nDer Dokumentarfilm von 2023 des rumänischen Regisseurs Alexandru Solomon geht dem Mythos des Mönchs Arsenie Boca nach\, den die orthodoxe Kirche heilig gesprochen hat\, dem einen Nähe zur faschistischen Bewegung der Legion attestiert wird und der ein mystisch-religiöses Vorbild für viele Rumänen ist. Sein Grab im Kloster Prislop im Gebiet Țara Hațegului (nahe der Stadt Hunedoara und des Retezat-Massivs) ist heute lebendiger Pilgerort. Eine ironisch-humorvoll inszeniert Pilgerreise eines jüdisch-rumänischen Regisseurs auf der Suche nach dem Sinn und Unsinn eines unheimlichen Heiligen der christlich Orthodoxen. Dabei stellen sich grundsätzliche Fragen zur kulturellen Identität der Rumänen. \nEine Veranstaltung unseres Mitgliedes Ingrid Baltág. Die Veranstaltung ist offen für alle – nicht nur für Studierende! \nDer Film wird in Raum 4.60 gezeigt. \nBeiträge zum Buffet sind willkommen\, jedoch freiwillig.
URL:https://www.deruge.org/event/filmabend-am-institut-fuer-romanistik-hu-berlin/
LOCATION:Boeckh-Haus\, Dorotheenstr. 65\, Berlin
CATEGORIES:Film,Veranstaltung eines Kooperationspartners
ATTACH;FMTTYPE=image/png:https://www.deruge.org/wp-content/uploads/video_abend_01_2025-05-compressed_Arsenie-1.png
END:VEVENT
END:VCALENDAR