BEGIN:VCALENDAR
VERSION:2.0
PRODID:-//Deutsch-Rumänische Gesellschaft Berlin e.V. - ECPv6.15.18//NONSGML v1.0//EN
CALSCALE:GREGORIAN
METHOD:PUBLISH
X-ORIGINAL-URL:https://www.deruge.org
X-WR-CALDESC:Veranstaltungen für Deutsch-Rumänische Gesellschaft Berlin e.V.
REFRESH-INTERVAL;VALUE=DURATION:PT1H
X-Robots-Tag:noindex
X-PUBLISHED-TTL:PT1H
BEGIN:VTIMEZONE
TZID:Europe/Berlin
BEGIN:DAYLIGHT
TZOFFSETFROM:+0100
TZOFFSETTO:+0200
TZNAME:CEST
DTSTART:20240331T010000
END:DAYLIGHT
BEGIN:STANDARD
TZOFFSETFROM:+0200
TZOFFSETTO:+0100
TZNAME:CET
DTSTART:20241027T010000
END:STANDARD
BEGIN:DAYLIGHT
TZOFFSETFROM:+0100
TZOFFSETTO:+0200
TZNAME:CEST
DTSTART:20250330T010000
END:DAYLIGHT
BEGIN:STANDARD
TZOFFSETFROM:+0200
TZOFFSETTO:+0100
TZNAME:CET
DTSTART:20251026T010000
END:STANDARD
BEGIN:DAYLIGHT
TZOFFSETFROM:+0100
TZOFFSETTO:+0200
TZNAME:CEST
DTSTART:20260329T010000
END:DAYLIGHT
BEGIN:STANDARD
TZOFFSETFROM:+0200
TZOFFSETTO:+0100
TZNAME:CET
DTSTART:20261025T010000
END:STANDARD
END:VTIMEZONE
BEGIN:VEVENT
DTSTART;TZID=Europe/Berlin:20250131T211500
DTEND;TZID=Europe/Berlin:20250131T230000
DTSTAMP:20260426T024116
CREATED:20250105T153247Z
LAST-MODIFIED:20250105T153358Z
UID:4494-1738358100-1738364400@www.deruge.org
SUMMARY:Die Vertriebenen (Fără suflet / Без души) - Kinostart
DESCRIPTION:D/ MD 2024\, 95 min\, OmdU \nRegie: Anja Kreis \nEine Philosophieprofessorin führt ihre Studierenden in das Konzept des Todes Gottes ein und stellt sich die Frage nach dem Vorhandensein des irrationalen Bösen in der menschlichen Natur. Unmittelbar danach wird sie von ihrer Schwester besucht. Diese ist Gynäkologin und soll die Zahl der Abtreibungen in der Stadt X. reduzieren. Kurz darauf führt sie eine illegale Abtreibung durch – die Patientin behauptet\, den Antichrist im Leib zu tragen – und nimmt den Embryo mit nach Hause.
URL:https://www.deruge.org/event/die-vertriebenen-fara-suflet-%d0%b1%d0%b5%d0%b7-%d0%b4%d1%83%d1%88%d0%b8-kinostart/
LOCATION:Kino Krokodil\, Greifenhagener Str. 32\, Berlin\, 10437\, Deutschland
CATEGORIES:Film,Veranstaltung eines Kooperationspartners
ATTACH;FMTTYPE=image/webp:https://www.deruge.org/wp-content/uploads/Die-Vertriebenen.webp
END:VEVENT
END:VCALENDAR