BEGIN:VCALENDAR
VERSION:2.0
PRODID:-//Deutsch-Rumänische Gesellschaft Berlin e.V. - ECPv6.15.18//NONSGML v1.0//EN
CALSCALE:GREGORIAN
METHOD:PUBLISH
X-WR-CALNAME:Deutsch-Rumänische Gesellschaft Berlin e.V.
X-ORIGINAL-URL:https://www.deruge.org
X-WR-CALDESC:Veranstaltungen für Deutsch-Rumänische Gesellschaft Berlin e.V.
REFRESH-INTERVAL;VALUE=DURATION:PT1H
X-Robots-Tag:noindex
X-PUBLISHED-TTL:PT1H
BEGIN:VTIMEZONE
TZID:Europe/Berlin
BEGIN:DAYLIGHT
TZOFFSETFROM:+0100
TZOFFSETTO:+0200
TZNAME:CEST
DTSTART:20240331T010000
END:DAYLIGHT
BEGIN:STANDARD
TZOFFSETFROM:+0200
TZOFFSETTO:+0100
TZNAME:CET
DTSTART:20241027T010000
END:STANDARD
BEGIN:DAYLIGHT
TZOFFSETFROM:+0100
TZOFFSETTO:+0200
TZNAME:CEST
DTSTART:20250330T010000
END:DAYLIGHT
BEGIN:STANDARD
TZOFFSETFROM:+0200
TZOFFSETTO:+0100
TZNAME:CET
DTSTART:20251026T010000
END:STANDARD
BEGIN:DAYLIGHT
TZOFFSETFROM:+0100
TZOFFSETTO:+0200
TZNAME:CEST
DTSTART:20260329T010000
END:DAYLIGHT
BEGIN:STANDARD
TZOFFSETFROM:+0200
TZOFFSETTO:+0100
TZNAME:CET
DTSTART:20261025T010000
END:STANDARD
END:VTIMEZONE
BEGIN:VEVENT
DTSTART;VALUE=DATE:20250607
DTEND;VALUE=DATE:20250609
DTSTAMP:20260425T173517
CREATED:20250611T094311Z
LAST-MODIFIED:20250611T144355Z
UID:4977-1749254400-1749427199@www.deruge.org
SUMMARY:Festival "Dor Călător" - Moldauisches Kultur- und Genussfest
DESCRIPTION:Wenn es in der moldauischen Diaspora in Deutschland so etwas wie ein gemeinsames Sommerfest gibt\, dann ist es wohl das Festival „Dor Călător“\, was schon zum wiederholten Mal im Potsdamer Krongut Bornstedt stattfand. Am Pfingstwochenende gab es dort moldauische Handwerkskunst\, Tanz\, Musik\, Speisen und vieles mehr zu entdecken. Und die DRG war auch vertreten! \nZwei Tage voller Musik\, Kultur und moldauischer Lebensfreude – das Festival begann am 7. Juni mit einem energiegeladenen Programm aus Live-Musik\, Pop-Beats und kreativen Neuinterpretationen traditioneller Klänge. Auf der Bühne standen unter anderem Künstler*innen aus der moldauischen Diaspora\, die beliebte Moderatorin Lilu\, sowie Musikacts wie Prima Dragoste (im Akustik-Set)\, die Vali Boghean Band und Irina Rimes mit einem mitreißenden Live-Konzert. Den krönenden Abschluss bildete das DJ-Set von Retro Aventura bei der Open-Air-Disco. Abseits der Bühne luden Marktstände mit handgemachten Produkten\, eine Weinverkostung mit dem Baraboi Wine House\, ein Kinderbereich mit Mitmachaktionen sowie eine modern interpretierte Trachtenparade zum Verweilen ein. \nHerzlichen Dank für das anregende Gespräch auf dem Festival Dor Calator\, für die interessanten Hefte und fürs schöne Sapanta-Buch! Ich habe mich gefreut\, Sie kennenzulernen und über die Deutsch-Rumänische Gesellschaft zu erfahren. Online habe ich mehr über Ihre eigene spannende Arbeit gelesen und würde mich sehr gerne ausführlicher mit Ihnen austauschen (Besucherin an unserem Stand) \nAm 8. Juni stand Moldova selbst im Mittelpunkt: Ein Tag ganz im Zeichen von Tradition\, Folklore und generationenübergreifenden Begegnungen. Auf der Bühne präsentierten sich erneut Künstler*innen der Diaspora\, Prima Dragoste\, Adriana Ochișanu\, die Vali Boghean Band und DJ Retro Aventura. Das Rahmenprogramm bot traditionelle Marktstände\, moldauische Spezialitäten\, interaktive Workshops wie Töpfern\, Schnitzen und Stickerei sowie eine Ausstellung landestypischer Trachten. Höhepunkte waren die Live-Volkstänze\, die Geschichten der Winzer bei der Weinverkostung – und zum feierlichen Abschluss der gemeinsame Hora-Tanz\, der alle Generationen vereinte. \nWir waren mit einem kleinen Stand vertreten und beantworteten neugierige Fragen zu den Aktivitäten der DRG. Denn zunächst wunderten sich viele\, was die Deutsch-Rumänische Gesellschaft mit der Republik Moldau zu tun haben könnte. Das bot viel Stoff für so manche kleine Aufklärung zur gemeinsamen Geschichte\, Sprache und Kultur der beiden Länder. Neben den Deutsch-Rumänischen Heften (Link) verteilten wir auch rumänischsprachige Info-Materialien an die moldauischen Festival-BesucherInnen. Christof Kaiser\, Raluca Fritzsch\, Gerrit Kriete-Vogel und Janka Vogel waren für die DRG im Einsatz. \n\n                        \n                              \n                        \n                              \n                              © GKV/DRG\n                              \n                        \n                              \n                        \n                              \n                              Christof Kaiser mit einer Besucherin © JV/DRG\n                              \n                        \n                              \n                        \n                              \n                              © JV/DRG\n                              \n                        \n                              \n                        \n                              \n                              Janka Vogel (r.) mit der Festival-Chefin Daniela Caraiman © CK/DRG\n                              \n                        \n                              \n                        \n                              \n                              Christof Kaiser © JV/DRG\n                              \n                        \n                              \n                        \n                              \n                              © JV/DRG\n                              \n                        \n                              \n                        \n                              \n                              Raluca Fritzsch (l.) und Janka Vogel \n© CK/DRG
URL:https://www.deruge.org/event/festival-dor-calator-moldauisches-kultur-und-genussfest/
LOCATION:Krongut Bornstedt\, Ribbeckstr. 6-7\, Potsdam\, 14469
CATEGORIES:Ausstellung,Highlight,Konzert,Veranstaltung eines Kooperationspartners
ATTACH;FMTTYPE=image/jpeg:https://www.deruge.org/wp-content/uploads/dor-calator-2025.jpg
ORGANIZER;CN="Moldauisch-Deutscher Verein 'Dor C%C4%83l%C4%83tor'":MAILTO:contact@dorcalator.eu
END:VEVENT
END:VCALENDAR