BEGIN:VCALENDAR
VERSION:2.0
PRODID:-//Deutsch-Rumänische Gesellschaft Berlin e.V. - ECPv6.15.18//NONSGML v1.0//EN
CALSCALE:GREGORIAN
METHOD:PUBLISH
X-WR-CALNAME:Deutsch-Rumänische Gesellschaft Berlin e.V.
X-ORIGINAL-URL:https://www.deruge.org
X-WR-CALDESC:Veranstaltungen für Deutsch-Rumänische Gesellschaft Berlin e.V.
REFRESH-INTERVAL;VALUE=DURATION:PT1H
X-Robots-Tag:noindex
X-PUBLISHED-TTL:PT1H
BEGIN:VTIMEZONE
TZID:Europe/Berlin
BEGIN:DAYLIGHT
TZOFFSETFROM:+0100
TZOFFSETTO:+0200
TZNAME:CEST
DTSTART:20230326T010000
END:DAYLIGHT
BEGIN:STANDARD
TZOFFSETFROM:+0200
TZOFFSETTO:+0100
TZNAME:CET
DTSTART:20231029T010000
END:STANDARD
BEGIN:DAYLIGHT
TZOFFSETFROM:+0100
TZOFFSETTO:+0200
TZNAME:CEST
DTSTART:20240331T010000
END:DAYLIGHT
BEGIN:STANDARD
TZOFFSETFROM:+0200
TZOFFSETTO:+0100
TZNAME:CET
DTSTART:20241027T010000
END:STANDARD
BEGIN:DAYLIGHT
TZOFFSETFROM:+0100
TZOFFSETTO:+0200
TZNAME:CEST
DTSTART:20250330T010000
END:DAYLIGHT
BEGIN:STANDARD
TZOFFSETFROM:+0200
TZOFFSETTO:+0100
TZNAME:CET
DTSTART:20251026T010000
END:STANDARD
END:VTIMEZONE
BEGIN:VEVENT
DTSTART;TZID=Europe/Berlin:20241203T180000
DTEND;TZID=Europe/Berlin:20241203T193000
DTSTAMP:20260420T140944
CREATED:20241203T080538Z
LAST-MODIFIED:20241203T080538Z
UID:4122-1733248800-1733254200@www.deruge.org
SUMMARY:Rassismus Gegenüber Rom*nja in Rumänien. Ein Kampf Gegen Windmühlen?
DESCRIPTION:Buchvorstellung und Gespräch mit dem Autor und Menschenrechtsaktivisten Valeriu Nicolae (Bukarest) \nBitte um Anmeldung an: victoria.popovici@uni-jena.de \nZugangsdaten werden nach Anmeldung verschickt.
URL:https://www.deruge.org/event/rassismus-gegenueber-romnja-in-rumaenien-ein-kampf-gegen-windmuehlen/
LOCATION:zoom
CATEGORIES:Buchpräsentation,Online-Veranstaltung,Veranstaltung eines Kooperationspartners
ATTACH;FMTTYPE=image/png:https://www.deruge.org/wp-content/uploads/valeriu-nicolae-uni-jena.png
END:VEVENT
END:VCALENDAR