BEGIN:VCALENDAR
VERSION:2.0
PRODID:-//Deutsch-Rumänische Gesellschaft Berlin e.V. - ECPv6.15.18//NONSGML v1.0//EN
CALSCALE:GREGORIAN
METHOD:PUBLISH
X-ORIGINAL-URL:https://www.deruge.org
X-WR-CALDESC:Veranstaltungen für Deutsch-Rumänische Gesellschaft Berlin e.V.
REFRESH-INTERVAL;VALUE=DURATION:PT1H
X-Robots-Tag:noindex
X-PUBLISHED-TTL:PT1H
BEGIN:VTIMEZONE
TZID:Europe/Berlin
BEGIN:DAYLIGHT
TZOFFSETFROM:+0100
TZOFFSETTO:+0200
TZNAME:CEST
DTSTART:20240331T010000
END:DAYLIGHT
BEGIN:STANDARD
TZOFFSETFROM:+0200
TZOFFSETTO:+0100
TZNAME:CET
DTSTART:20241027T010000
END:STANDARD
BEGIN:DAYLIGHT
TZOFFSETFROM:+0100
TZOFFSETTO:+0200
TZNAME:CEST
DTSTART:20250330T010000
END:DAYLIGHT
BEGIN:STANDARD
TZOFFSETFROM:+0200
TZOFFSETTO:+0100
TZNAME:CET
DTSTART:20251026T010000
END:STANDARD
BEGIN:DAYLIGHT
TZOFFSETFROM:+0100
TZOFFSETTO:+0200
TZNAME:CEST
DTSTART:20260329T010000
END:DAYLIGHT
BEGIN:STANDARD
TZOFFSETFROM:+0200
TZOFFSETTO:+0100
TZNAME:CET
DTSTART:20261025T010000
END:STANDARD
END:VTIMEZONE
BEGIN:VEVENT
DTSTART;TZID=Europe/Berlin:20251015T180000
DTEND;TZID=Europe/Berlin:20251015T210000
DTSTAMP:20260419T215057
CREATED:20250904T104131Z
LAST-MODIFIED:20250904T104411Z
UID:5296-1760551200-1760562000@www.deruge.org
SUMMARY:VAR-Jahresversammlung mit Vorstellung der DRG
DESCRIPTION:Einladung zur Jahresversammlung der Vereinigten Aktion für Rumänien e.V. (VAR)\nam Mittwoch\, den 15.10.2025\, um 18 Uhr\nim Gartensaal der Emmaus-Kirchengemeinde Zehlendorf\nOnkel-Tom-Str. 80\, 14169 Berlin\nU-Bahnhof Onkel-Tom-Straße \nGast: Janka Vogel\nVizepräsidentin der Deutsch-Rumänischen Gesellschaft Berlin e. V. (DRG)\nRumänistin und Sozialwissenschaftlerin mit den Schwerpunkten\nRumänien\, Migration\, Soziale Arbeit und Roma \nTagesordnung:\n1 Begrüßung mit Genehmigung der Tagesordnung und des Protokolls\n2 Bericht des Kassenwarts\n3 Bericht des Vorsitzenden\n4 Entlastung des Vorstands\n5 Vorstandswahl\n6 Janka Vogel stellt die Deutsch-Rumänische-Gesellschaft vor\n7 Diskussion und Fragen \nWeitere Informationen auch im aktuellen VAR-Newsletter (Link).
URL:https://www.deruge.org/event/var-jahresversammlung-mit-vorstellung-der-drg/
LOCATION:Emmauskirche Zehlendorf\, Onkel-Tom-Str. 80\, Berlin\, 14169
CATEGORIES:Veranstaltung eines Kooperationspartners
ATTACH;FMTTYPE=image/gif:https://www.deruge.org/wp-content/uploads/VAR-logo.gif
ORGANIZER;CN="Vereinigte Aktion f%C3%BCr Rum%C3%A4nien e.V.":MAILTO:kontakt@var-berlin.org
END:VEVENT
END:VCALENDAR