BEGIN:VCALENDAR
VERSION:2.0
PRODID:-//Deutsch-Rumänische Gesellschaft Berlin e.V. - ECPv6.15.18//NONSGML v1.0//EN
CALSCALE:GREGORIAN
METHOD:PUBLISH
X-ORIGINAL-URL:https://www.deruge.org
X-WR-CALDESC:Veranstaltungen für Deutsch-Rumänische Gesellschaft Berlin e.V.
REFRESH-INTERVAL;VALUE=DURATION:PT1H
X-Robots-Tag:noindex
X-PUBLISHED-TTL:PT1H
BEGIN:VTIMEZONE
TZID:Europe/Berlin
BEGIN:DAYLIGHT
TZOFFSETFROM:+0100
TZOFFSETTO:+0200
TZNAME:CEST
DTSTART:20240331T010000
END:DAYLIGHT
BEGIN:STANDARD
TZOFFSETFROM:+0200
TZOFFSETTO:+0100
TZNAME:CET
DTSTART:20241027T010000
END:STANDARD
BEGIN:DAYLIGHT
TZOFFSETFROM:+0100
TZOFFSETTO:+0200
TZNAME:CEST
DTSTART:20250330T010000
END:DAYLIGHT
BEGIN:STANDARD
TZOFFSETFROM:+0200
TZOFFSETTO:+0100
TZNAME:CET
DTSTART:20251026T010000
END:STANDARD
BEGIN:DAYLIGHT
TZOFFSETFROM:+0100
TZOFFSETTO:+0200
TZNAME:CEST
DTSTART:20260329T010000
END:DAYLIGHT
BEGIN:STANDARD
TZOFFSETFROM:+0200
TZOFFSETTO:+0100
TZNAME:CET
DTSTART:20261025T010000
END:STANDARD
END:VTIMEZONE
BEGIN:VEVENT
DTSTART;TZID=Europe/Berlin:20251215T190000
DTEND;TZID=Europe/Berlin:20251215T213000
DTSTAMP:20260419T184634
CREATED:20250812T111304Z
LAST-MODIFIED:20251222T171240Z
UID:5226-1765825200-1765834200@www.deruge.org
SUMMARY:Jetzt ist die Zeit: Roma-Geschichten von Versklavung\, Überleben und Selbstbestimmung
DESCRIPTION:Was passiert\, wenn eine Geschichte ausgelöscht wird? Wenn Jahrhunderte der Versklavung unbenannt bleiben und die Wunden\, die sie hinterlassen haben\, unter dem Mantel des Schweigens begraben werden? In Rumänien ist die Versklavung von Roma – über einen Zeitraum von mehr als 500 Jahren – bis heute kaum Teil des kollektiven Gedächtnisses. Es gab keine kulturelle Aufarbeitung\, keine institutionelle Auseinandersetzung\, keinen öffentlichen Diskurs. Doch die Zeit des Schweigens ist vorbei. Die Zeit ist jetzt. \nUnsere geplante Veranstaltung zum Kurzfilmtag 2025 bringt das drängende Thema der Roma-Versklavung und ihrer Auswirkungen auf die rumänische Gesellschaft ins Licht der Öffentlichkeit. Gleichzeitig eröffnet sie eine Diskussion über den Kurzfilm als Werkzeug für Empowerment\, Widerstand und Heilung. \nGezeigt wird ein kuratiertes Programm aus vier eindrucksvollen Kurzfilmen\, die Roma- und rumänische Perspektiven über Zeiten und Formen hinweg erfahrbar machen – von historischen Re-Inszenierungen und beißender Satire bis hin zu intimen Dokumentationen und spekulativer ritueller Kunst. \n\n Letter of Forgiveness (Alina Șerban\, 15 Min.)\nDer erste Film über die Roma-Versklavung\, geschrieben aus der Perspektive einer Romni und zugleich das erste Werk\, das von einer Romni aus Rumänien inszeniert wurde. Erzählt wird die Geschichte der Sklaverei aus der Sicht einer Mutter\, die für die Freiheit ihres Sohnes kämpft.\n The Life and Miracles of St. Nicodemus of Tismana (Liviu Bărbulescu\, 8 Min.)\nEin tragikomischer Animationsfilm im Stil orthodoxer Ikonen\, der als bissige Satire die historische Rolle der rumänisch-orthodoxen Kirche bei der Versklavung von Roma thematisiert.\n I Am Nicu (Alina Șerban\, 16 Min.)\nEin Tag im Leben von Nicu – ein junger Mann\, der sich mutig in den komplexen Schnittstellen von Roma-Identität\, Queerness und dem Leben als Pflegekind in Bukarest bewegt.\n The Future Is a Safe Place Hidden in My Braids (Mihaela Drăgan\, 18 Min.)\nEine rituelle\, visuell eindrucksvolle Rückeroberung von Magie und Zukunft durch Roma-Frauen – ein poetischer Entwurf eines befreiten Morgen.\n\nIm Anschluss an das Screening findet eine moderierte Diskussion mit den Filmschaffenden Liviu Bărbulescu\, Lisa Smith und Radu Sticlea (angefragt) statt. Im Mittelpunkt steht die Frage nach dem Potenzial\, den Stärken und den Grenzen des Kurzfilms als Mittel der Selbstermächtigung und Selbstrepräsentation.
URL:https://www.deruge.org/event/jetzt-ist-die-zeit-roma-geschichten-von-versklavung-ueberleben-und-selbstbestimmung/
LOCATION:Kino Krokodil\, Greifenhagener Str. 32\, Berlin\, 10437\, Deutschland
CATEGORIES:Film,Highlight,Veranstaltung eines Kooperationspartners
ATTACH;FMTTYPE=image/jpeg:https://www.deruge.org/wp-content/uploads/Shortfilmday_Instagram.jpg
END:VEVENT
END:VCALENDAR