BEGIN:VCALENDAR
VERSION:2.0
PRODID:-//Deutsch-Rumänische Gesellschaft Berlin e.V. - ECPv6.15.18//NONSGML v1.0//EN
CALSCALE:GREGORIAN
METHOD:PUBLISH
X-WR-CALNAME:Deutsch-Rumänische Gesellschaft Berlin e.V.
X-ORIGINAL-URL:https://www.deruge.org
X-WR-CALDESC:Veranstaltungen für Deutsch-Rumänische Gesellschaft Berlin e.V.
REFRESH-INTERVAL;VALUE=DURATION:PT1H
X-Robots-Tag:noindex
X-PUBLISHED-TTL:PT1H
BEGIN:VTIMEZONE
TZID:Europe/Berlin
BEGIN:DAYLIGHT
TZOFFSETFROM:+0100
TZOFFSETTO:+0200
TZNAME:CEST
DTSTART:20250330T010000
END:DAYLIGHT
BEGIN:STANDARD
TZOFFSETFROM:+0200
TZOFFSETTO:+0100
TZNAME:CET
DTSTART:20251026T010000
END:STANDARD
BEGIN:DAYLIGHT
TZOFFSETFROM:+0100
TZOFFSETTO:+0200
TZNAME:CEST
DTSTART:20260329T010000
END:DAYLIGHT
BEGIN:STANDARD
TZOFFSETFROM:+0200
TZOFFSETTO:+0100
TZNAME:CET
DTSTART:20261025T010000
END:STANDARD
BEGIN:DAYLIGHT
TZOFFSETFROM:+0100
TZOFFSETTO:+0200
TZNAME:CEST
DTSTART:20270328T010000
END:DAYLIGHT
BEGIN:STANDARD
TZOFFSETFROM:+0200
TZOFFSETTO:+0100
TZNAME:CET
DTSTART:20271031T010000
END:STANDARD
END:VTIMEZONE
BEGIN:VEVENT
DTSTART;VALUE=DATE:20261103
DTEND;VALUE=DATE:20261105
DTSTAMP:20260420T230006
CREATED:20251227T112613Z
LAST-MODIFIED:20251227T112831Z
UID:5654-1793664000-1793836799@www.deruge.org
SUMMARY:17. Balkanromanistentag
DESCRIPTION:Friktionen: von produktiven Gewirren und (Auf-)Brüchen in der südosteuropäischen Romania \nMit dem Begriff der „Friktionen“ knüpfen wir an die Anthropologin Anna Lowenhaupt Tsing an\, die damit die produktiven Reibungen bezeichnet\, durch die im Kontakt zwischen Menschen\, Dingen\, Spezies und Praktiken und ihren globalen Verflechtungen Neues entsteht. Friktionen sind nicht nur Ereignisse wie Konflikte oder Blockaden\, sondern auch Anlässe für Transformation und Unerwartetes: So können selbst zerstörerische Vorgänge – von Waldbränden bis zur Nuklearkatastrophe – Voraussetzungen für überraschende ökologische und ökonomische Prozesse schaffen\, wie Tsings Beispiel nachwachsender\, weltweit\ngehandelter (Matsutake-)Pilze zeigt. Übertragen auf die südosteuropäische Romania verstehen wir Friktionen als Momente\, in denen aus Reibungen zwischen Sprachen\, Kulturen\, Narrativen und sozialen Dynamiken neue Perspektiven\, Praktiken und Ordnungen hervorgehen. Diese nachzuzeichnen\, ist ein Anliegen der Tagung. \nZugleich soll im Rahmen der Tagung auch der im Verbands- und Tagungsnamen enthaltene Begriff „Balkan“ kritisch in den Blick genommen werden: Ist er heute noch zeitgemäß? Welche produktiven oder problematischen Reibungen entstehen durch seine Verwendung? In den letzten Jahren hat die Debatte im Verband gezeigt\, dass der Begriff gleichermaßen Zugehörigkeit wie Ausgrenzung erzeugt – und damit paradigmatisch für Friktionen steht. Darüber hinaus soll in einem größeren Maßstab ausgelotet werden\, wie die Balkanromanistik/Rumänistik durch eine solche Debatte über ihre eigenen Begriffe und\nKonzepte hinaus zur Weiterentwicklung theoretischer Modelle in den Geistes- und Sozialwissenschaften – insbesondere auch in den Philologien – beitragen kann. Ziel ist es nicht\, die bekannten Kontroversen um „Balkan“ und „Südosteuropa“ lediglich zu wiederholen\, sondern neue begrifflich-konzeptuelle Impulse und Perspektiven zu eröffnen\, die aus den spezifischen Erfahrungen der Region heraus generiert werden und international anschlussfähig sind. \nWir laden Beiträge ein\, die sich mit solchen Prozessen der Reibung\, des Übergangs und der Transformation befassen. \nMögliche Themenfelder sind: \n\nSprachliche und kulturelle Kontaktzonen\, Interferenzen und Hybriditäten\nLiterarische und künstlerische Inszenierungen von Konflikt\, Krise und Neubeginn\nNarrative von Migration\, Transit und globalen Verflechtungen\nSpannungslinien zwischen Tradition und Moderne\, Zentrum und Peripherie\nPolitische und gesellschaftliche Auf- und Umbrüche in der Region\n„Friktionen“ als Denkfigur für das Lehren und Lernen des Rumänischen\nRumänisch außerhalb Rumäniens – als Herkunfts- und als Fremdsprache\nSprachliche Hybridität in der rumänischen Diaspora\nMethodologische Friktionen: neue theoretische Perspektiven in der Balkanromanistik\n\nDer Balkanromanistentag ist zugleich ein offenes Forum. Neben thematisch einschlägigen Beiträgen sind auch Vorschläge willkommen\, die allgemeine Aspekte der romanistischen Forschung im Balkanraum betreffen. \nAbstracts (max. 300 Wörter\, mit kurzer biographischer Notiz) senden Sie bitte bis zum 28.Februar 2026 an: brt2026-berlin@uni-jena.de. \nDie Tagung findet mit den Kerntagen am 3. und 4. November 2026 an der Humboldt-Universität zu Berlin statt\, wo sie mit Unterstützung des Lehrstuhls für Didaktik der romanischen Sprachen und Literaturen (Prof. Reimann) durchgeführt wird. Arbeitssprachen sind Deutsch und Rumänisch\, Französisch und Englisch\, auf Anfrage weitere. \n  \nCall for Papers (pdf)
URL:https://www.deruge.org/event/17-balkanromanistentag/
LOCATION:HU Berlin – Institut für Romanistik\, Dorotheenstr. 65\, Berlin\, 10117
CATEGORIES:Veranstaltung eines Kooperationspartners
ATTACH;FMTTYPE=image/jpeg:https://www.deruge.org/wp-content/uploads/cropped-logo_brv.jpg
END:VEVENT
END:VCALENDAR