BEGIN:VCALENDAR
VERSION:2.0
PRODID:-//Deutsch-Rumänische Gesellschaft Berlin e.V. - ECPv6.15.18//NONSGML v1.0//EN
CALSCALE:GREGORIAN
METHOD:PUBLISH
X-WR-CALNAME:Deutsch-Rumänische Gesellschaft Berlin e.V.
X-ORIGINAL-URL:https://www.deruge.org
X-WR-CALDESC:Veranstaltungen für Deutsch-Rumänische Gesellschaft Berlin e.V.
REFRESH-INTERVAL;VALUE=DURATION:PT1H
X-Robots-Tag:noindex
X-PUBLISHED-TTL:PT1H
BEGIN:VTIMEZONE
TZID:Europe/Berlin
BEGIN:DAYLIGHT
TZOFFSETFROM:+0100
TZOFFSETTO:+0200
TZNAME:CEST
DTSTART:20230326T010000
END:DAYLIGHT
BEGIN:STANDARD
TZOFFSETFROM:+0200
TZOFFSETTO:+0100
TZNAME:CET
DTSTART:20231029T010000
END:STANDARD
BEGIN:DAYLIGHT
TZOFFSETFROM:+0100
TZOFFSETTO:+0200
TZNAME:CEST
DTSTART:20240331T010000
END:DAYLIGHT
BEGIN:STANDARD
TZOFFSETFROM:+0200
TZOFFSETTO:+0100
TZNAME:CET
DTSTART:20241027T010000
END:STANDARD
BEGIN:DAYLIGHT
TZOFFSETFROM:+0100
TZOFFSETTO:+0200
TZNAME:CEST
DTSTART:20250330T010000
END:DAYLIGHT
BEGIN:STANDARD
TZOFFSETFROM:+0200
TZOFFSETTO:+0100
TZNAME:CET
DTSTART:20251026T010000
END:STANDARD
END:VTIMEZONE
BEGIN:VEVENT
DTSTART;TZID=Europe/Berlin:20241125T150000
DTEND;TZID=Europe/Berlin:20241125T190000
DTSTAMP:20260420T154124
CREATED:20241026T165121Z
LAST-MODIFIED:20241123T113506Z
UID:3142-1732546800-1732561200@www.deruge.org
SUMMARY:12. Studientag Rumänien: Demokratie als Schauspiel? – Geschichte und Kultur politischer Wahlen in Rumänien
DESCRIPTION:Programm: \n15:00 Uhr\nBegrüßung und Einführung\nProf. Dr. Hans-Christian Maner\nDaniel Urspung (Zürich) \n15:15 ‒ 16:15 Uhr\nWahlen und politische Kultur im historischen Kontext\n(1. Gesprächsrunde)\nProf. Dr. Bogdan Murgescu (Bukarest)\nPD Dr. Mariana Hausleitner (Berlin)\nDr. Dr.h.c. Florian Kührer-Wielach (München)\nModeration: Prof. Dr. Hans-Christian Maner \n16:15 ‒ 17:00 Uhr\nFragen aus dem Publikum \n17:00 ‒ 17:15 Uhr\nKurze Pause \n17:15 ‒ 18:15 Uhr\nWahlen und politische Kultur nach 1990\n(2. Gesprächsrunde)\nProf. Dr. Susanne Pickel (Duisburg)\nDr. Roxana Stoenescu (Cluj-Napoca)\nDr. habil. Ralf Göllner (Regensburg)\nModeration: Daniel Ursprung (Zürich) \n18:15 – 19:00 Uhr\nFragen aus dem Publikum \nDer 12. Studientag Rumänien Demokratie als Schauspiel? – Geschichte und Kultur politischer Wahlen in Rumänien ist eine Veranstaltung des Arbeitsbereichs Osteuropäische Geschichte des Historischen Seminars der Universität Mainz\, der Abteilung für Osteuropäische Geschichte der Universität Zürich\, des Lektorats für Rumänische Sprache und Kultur des Romanischen Seminars der Johannes Gutenberg-Universität Mainz\, der Landeszentrale für politische Bildung Rheinland-Pfalz sowie der Zweigstelle Mainz der Südosteuropa-Gesellschaft. \nZur Teilnahme an der Online-Veranstaltung ist eine Anmeldung bei der Landeszentrale für politische Bildung Rheinland-Pfalz bis 22. November 2024 erforderlich. Nutzen Sie dazu den folgenden Link: https://s.rlp.de/yGJB7yW \nFlyer_12. Studientag
URL:https://www.deruge.org/event/12-studientag-rumaenien-demokratie-als-schauspiel-geschichte-und-kultur-politischer-wahlen-in-rumaenien/
LOCATION:zoom
CATEGORIES:Highlight,Online-Veranstaltung
ATTACH;FMTTYPE=image/png:https://www.deruge.org/wp-content/uploads/studientag-ro.png
ORGANIZER;CN="Johannes Gutenberg Universit%C3%A4t Mainz":MAILTO:maner@uni-mainz.de
END:VEVENT
END:VCALENDAR